BEGIN:VCALENDAR
VERSION:2.0
PRODID:-//St. Luke&#039;s Anglican Church - ECPv6.15.20//NONSGML v1.0//EN
CALSCALE:GREGORIAN
METHOD:PUBLISH
X-WR-CALNAME:St. Luke&#039;s Anglican Church
X-ORIGINAL-URL:https://stlukessmithville.ca
X-WR-CALDESC:Events for St. Luke&#039;s Anglican Church
REFRESH-INTERVAL;VALUE=DURATION:PT1H
X-Robots-Tag:noindex
X-PUBLISHED-TTL:PT1H
BEGIN:VTIMEZONE
TZID:America/Toronto
BEGIN:DAYLIGHT
TZOFFSETFROM:-0500
TZOFFSETTO:-0400
TZNAME:EDT
DTSTART:20190310T070000
END:DAYLIGHT
BEGIN:STANDARD
TZOFFSETFROM:-0400
TZOFFSETTO:-0500
TZNAME:EST
DTSTART:20191103T060000
END:STANDARD
BEGIN:DAYLIGHT
TZOFFSETFROM:-0500
TZOFFSETTO:-0400
TZNAME:EDT
DTSTART:20200308T070000
END:DAYLIGHT
BEGIN:STANDARD
TZOFFSETFROM:-0400
TZOFFSETTO:-0500
TZNAME:EST
DTSTART:20201101T060000
END:STANDARD
BEGIN:DAYLIGHT
TZOFFSETFROM:-0500
TZOFFSETTO:-0400
TZNAME:EDT
DTSTART:20210314T070000
END:DAYLIGHT
BEGIN:STANDARD
TZOFFSETFROM:-0400
TZOFFSETTO:-0500
TZNAME:EST
DTSTART:20211107T060000
END:STANDARD
END:VTIMEZONE
BEGIN:VEVENT
DTSTART;TZID=America/Toronto:20200412T093000
DTEND;TZID=America/Toronto:20200412T230000
DTSTAMP:20260422T092228
CREATED:20200101T201747Z
LAST-MODIFIED:20200103T175711Z
UID:781-1586683800-1586732400@stlukessmithville.ca
SUMMARY:Easter Sunday Service
DESCRIPTION:Services include:\nFamily Worship\nChurch School and Nursery\nEnjoy conversation\, coffee and refreshments after the service.
URL:https://stlukessmithville.ca/event/sunday-service-2020-04-12/
LOCATION:St. Luke’s Anglican Church\, 216 Station Street\, Smithville\, Ontario\, LOR 2A0\, Canada
CATEGORIES:Weekly Service
ATTACH;FMTTYPE=image/jpeg:https://stlukessmithville.ca/wp-content/uploads/2019/12/silhouette-photo-of-3-cross-under-the-blue-sky-70847.jpg
END:VEVENT
BEGIN:VEVENT
DTSTART;TZID=America/Toronto:20200308T093000
DTEND;TZID=America/Toronto:20200308T230000
DTSTAMP:20260422T092228
CREATED:20200101T201747Z
LAST-MODIFIED:20200116T172654Z
UID:776-1583659800-1583708400@stlukessmithville.ca
SUMMARY:Palm Sunday Service
DESCRIPTION:Services include:\nFamily Worship\nChurch School and Nursery\nEnjoy conversation\, coffee and refreshments after the service. \nServices begin at 9:30am
URL:https://stlukessmithville.ca/event/sunday-service-2020-03-08/
LOCATION:St. Luke’s Anglican Church\, 216 Station Street\, Smithville\, Ontario\, LOR 2A0\, Canada
CATEGORIES:Weekly Service
ATTACH;FMTTYPE=image/jpeg:https://stlukessmithville.ca/wp-content/uploads/2019/12/images201403LG.jpg
END:VEVENT
BEGIN:VEVENT
DTSTART;TZID=America/Toronto:20200119T093000
DTEND;TZID=America/Toronto:20200119T230000
DTSTAMP:20260422T092228
CREATED:20200101T201747Z
LAST-MODIFIED:20200119T015202Z
UID:769-1579426200-1579474800@stlukessmithville.ca
SUMMARY:Sunday Service
DESCRIPTION:Services include:\nFamily Worship\nChurch School and Nursery\nEnjoy conversation\, coffee and refreshments after the service. \nServices begin at 9:30am
URL:https://stlukessmithville.ca/event/sunday-service-2020-01-19/
LOCATION:St. Luke’s Anglican Church\, 216 Station Street\, Smithville\, Ontario\, LOR 2A0\, Canada
CATEGORIES:Weekly Service
ATTACH;FMTTYPE=image/jpeg:https://stlukessmithville.ca/wp-content/uploads/2019/12/images201403LG.jpg
END:VEVENT
BEGIN:VEVENT
DTSTART;TZID=America/Toronto:20200105T093000
DTEND;TZID=America/Toronto:20200105T230000
DTSTAMP:20260422T092228
CREATED:20200101T201747Z
LAST-MODIFIED:20200116T172446Z
UID:766-1578216600-1578265200@stlukessmithville.ca
SUMMARY:Sunday Service
DESCRIPTION:Services include:\nFamily Worship\nChurch School and Nursery\nEnjoy conversation\, coffee and refreshments after the service. \nServices begin at 9:30am
URL:https://stlukessmithville.ca/event/sunday-service/
LOCATION:St. Luke’s Anglican Church\, 216 Station Street\, Smithville\, Ontario\, LOR 2A0\, Canada
CATEGORIES:Weekly Service
ATTACH;FMTTYPE=image/jpeg:https://stlukessmithville.ca/wp-content/uploads/2019/12/images201403LG.jpg
END:VEVENT
END:VCALENDAR